View In:
ArcGIS JavaScript
ArcGIS Online Map Viewer
ArcGIS Earth
ArcMap
View Footprint In:
ArcGIS Online Map Viewer
Service Description: Windy
Name: Windy
Description:
Single Fused Map Cache: false
Extent:
XMin: 140.91660000000005
YMin: -39.14749999999991
XMax: 150.01660000000004
YMax: -33.94749999999991
Spatial Reference: 4283
(4283)
Initial Extent:
XMin: 140.91660000000005
YMin: -39.14749999999991
XMax: 150.01660000000004
YMax: -33.94749999999991
Spatial Reference: 4283
(4283)
Full Extent:
XMin: 140.91660000000005
YMin: -39.14749999999991
XMax: 150.01660000000004
YMax: -33.94749999999991
Spatial Reference: 4283
(4283)
Pixel Size X: 0.04999999999999997
Pixel Size Y: 0.04999999999999996
Band Count: 2
Pixel Type: F32
RasterFunction Infos: {"rasterFunctionInfos": [{
"name": "None",
"description": "",
"help": ""
}]}
Mensuration Capabilities: Basic
Has Histograms: true
Has Colormap: false
Has Multi Dimensions : false
Rendering Rule:
Min Scale: 0
Max Scale: 0
Copyright Text:
Service Data Type: esriImageServiceDataTypeVector-MagDir
Min Values: 0.0023169701453298, 0.045813206583261
Max Values: 38.849071502686, 287.1858215332
Mean Values: 16.345632761609, 156.78381142173
Standard Deviation Values: 8.2104551842918, 37.056728062634
Object ID Field:
Fields:
None
Default Mosaic Method: Center
Allowed Mosaic Methods:
SortField:
SortValue: null
Mosaic Operator: First
Default Compression Quality: 75
Default Resampling Method: Bilinear
Max Record Count: null
Max Image Height: 4100
Max Image Width: 15000
Max Download Image Count: null
Max Mosaic Image Count: null
Allow Raster Function: true
Allow Copy: true
Allow Analysis: true
Allow Compute TiePoints: false
Supports Statistics: false
Supports Advanced Queries: false
Use StandardizedQueries: true
Raster Type Infos:
Name: Raster Dataset
Description: Supports all ArcGIS Raster Datasets
Help:
Has Raster Attribute Table: false
Edit Fields Info: null
Ownership Based AccessControl For Rasters: null
Child Resources:
Info
Histograms
Statistics
Key Properties
Legend
Raster Function Infos
Supported Operations:
Export Image
Identify
Measure
Compute Histograms
Compute Statistics Histograms
Get Samples
Compute Class Statistics
Query Boundary
Compute Pixel Location
Validate
Project