{
 "currentVersion": 10.81,
 "serviceDescription": "Windy",
 "name": "Windy",
 "description": "",
 "extent": {
  "xmin": 140.91660000000005,
  "ymin": -39.14749999999991,
  "xmax": 150.01660000000004,
  "ymax": -33.94749999999991,
  "spatialReference": {
   "wkid": 4283,
   "latestWkid": 4283
  }
 },
 "initialExtent": {
  "xmin": 140.91660000000005,
  "ymin": -39.14749999999991,
  "xmax": 150.01660000000004,
  "ymax": -33.94749999999991,
  "spatialReference": {
   "wkid": 4283,
   "latestWkid": 4283
  }
 },
 "fullExtent": {
  "xmin": 140.91660000000005,
  "ymin": -39.14749999999991,
  "xmax": 150.01660000000004,
  "ymax": -33.94749999999991,
  "spatialReference": {
   "wkid": 4283,
   "latestWkid": 4283
  }
 },
 "pixelSizeX": 0.04999999999999997,
 "pixelSizeY": 0.04999999999999996,
 "datasetFormat": "TIFF",
 "uncompressedSize": 151424,
 "blockWidth": 128,
 "blockHeight": 128,
 "compressionType": "None",
 "bandNames": [
  "Vector-Magnitude",
  "Vector-Direction"
 ],
 "allowCopy": true,
 "allowAnalysis": true,
 "bandCount": 2,
 "noDataValue": -3.4028234663852886E38,
 "noDataValues": [
  -3.4028234663852886E38,
  -3.4028234663852886E38
 ],
 "pixelType": "F32",
 "minPixelSize": 0,
 "maxPixelSize": 0,
 "copyrightText": "",
 "serviceDataType": "esriImageServiceDataTypeVector-MagDir",
 "serviceSourceType": "esriImageServiceSourceTypeDataset",
 "minValues": [
  0.0023169701453298,
  0.045813206583261
 ],
 "maxValues": [
  38.849071502686,
  287.1858215332
 ],
 "meanValues": [
  16.345632761609,
  156.78381142173
 ],
 "stdvValues": [
  8.2104551842918,
  37.056728062634
 ],
 "objectIdField": "",
 "fields": [],
 "capabilities": "Image,Metadata,Mensuration",
 "defaultMosaicMethod": "Center",
 "allowedMosaicMethods": "",
 "sortField": "",
 "sortValue": null,
 "sortAscending": true,
 "mosaicOperator": "First",
 "maxDownloadSizeLimit": 2097196,
 "defaultCompressionQuality": 75,
 "defaultResamplingMethod": "Bilinear",
 "maxImageHeight": 4100,
 "maxImageWidth": 15000,
 "allowRasterFunction": true,
 "rasterFunctionInfos": [
  {
   "name": "None",
   "description": "",
   "help": ""
  }
 ],
 "rasterTypeInfos": [
  {
   "name": "Raster Dataset",
   "description": "Supports all ArcGIS Raster Datasets",
   "help": ""
  }
 ],
 "mensurationCapabilities": "Basic",
 "hasHistograms": true,
 "hasColormap": false,
 "hasRasterAttributeTable": false,
 "minScale": 0,
 "maxScale": 0,
 "exportTilesAllowed": false,
 "hasMultidimensions": false,
 "supportsStatistics": false,
 "supportsAdvancedQueries": false,
 "editFieldsInfo": null,
 "ownershipBasedAccessControlForRasters": null,
 "allowComputeTiePoints": false,
 "useStandardizedQueries": true,
 "advancedQueryCapabilities": {
  "useStandardizedQueries": true,
  "supportsStatistics": false,
  "supportsOrderBy": false,
  "supportsDistinct": false,
  "supportsPagination": false
 },
 "spatialReference": {
  "wkid": 4283,
  "latestWkid": 4283
 }
}
