View In:
ArcGIS JavaScript
ArcGIS Online Map Viewer
ArcGIS Earth
ArcMap
View Footprint In:
ArcGIS Online Map Viewer
Service Description: DEM10_WebMercator
Name: DEM10_WebMercator
Description:
Single Fused Map Cache: false
Extent:
XMin: 1.5602294151020397E7
YMin: -4747500.5541331805
XMax: 1.6722734151020397E7
YMax: -4002680.55413318
Spatial Reference: 102100
(3857)
Initial Extent:
XMin: 1.5602294151020397E7
YMin: -4747500.5541331805
XMax: 1.6722734151020397E7
YMax: -4002680.55413318
Spatial Reference: 102100
(3857)
Full Extent:
XMin: 1.5602294151020397E7
YMin: -4747500.5541331805
XMax: 1.6722734151020397E7
YMax: -4002680.55413318
Spatial Reference: 102100
(3857)
Pixel Size X: 10.0
Pixel Size Y: 10.000000000000007
Band Count: 1
Pixel Type: F32
RasterFunction Infos: {"rasterFunctionInfos": [{
"name": "None",
"description": "",
"help": ""
}]}
Mensuration Capabilities: Basic
Has Histograms: true
Has Colormap: false
Has Multi Dimensions : false
Rendering Rule:
Min Scale: 0
Max Scale: 0
Copyright Text:
Service Data Type: esriImageServiceDataTypeGeneric
Min Values: -69.57703399658203
Max Values: 2045.767333984375
Mean Values: 249.60723262444148
Standard Deviation Values: 274.15261712562875
Object ID Field:
Fields:
None
Default Mosaic Method: Center
Allowed Mosaic Methods:
SortField:
SortValue: null
Mosaic Operator: First
Default Compression Quality: 75
Default Resampling Method: Bilinear
Max Record Count: null
Max Image Height: 4100
Max Image Width: 15000
Max Download Image Count: null
Max Mosaic Image Count: null
Allow Raster Function: true
Allow Copy: null
Allow Analysis: null
Allow Compute TiePoints: false
Supports Statistics: false
Supports Advanced Queries: false
Use StandardizedQueries: true
Raster Type Infos:
Name: Raster Dataset
Description: Supports all ArcGIS Raster Datasets
Help:
Has Raster Attribute Table: false
Edit Fields Info: null
Ownership Based AccessControl For Rasters: null
Child Resources:
Info
Histograms
Key Properties
Legend
Raster Function Infos
Supported Operations:
Export Image
Identify
Measure
Compute Histograms
Compute Statistics Histograms
Get Samples
Compute Class Statistics
Query Boundary
Compute Pixel Location
Validate
Project