{
 "currentVersion": 10.81,
 "serviceDescription": "fireTower_Blackspots_AQI_Clear",
 "name": "fireTower_Blackspots_AQI_Clear",
 "description": "",
 "extent": {
  "xmin": 2082000,
  "ymin": 2258000,
  "xmax": 3357840,
  "ymax": 3492480,
  "spatialReference": {
   "wkid": 102171,
   "latestWkid": 3111
  }
 },
 "initialExtent": {
  "xmin": 2082000,
  "ymin": 2258000,
  "xmax": 3357840,
  "ymax": 3492480,
  "spatialReference": {
   "wkid": 102171,
   "latestWkid": 3111
  }
 },
 "fullExtent": {
  "xmin": 2082000,
  "ymin": 2258000,
  "xmax": 3357840,
  "ymax": 3492480,
  "spatialReference": {
   "wkid": 102171,
   "latestWkid": 3111
  }
 },
 "pixelSizeX": 20,
 "pixelSizeY": 20,
 "bandCount": 1,
 "pixelType": "F64",
 "minPixelSize": 0,
 "maxPixelSize": 0,
 "copyrightText": "",
 "serviceDataType": "esriImageServiceDataTypeGeneric",
 "minValues": [
  200.00020027160645
 ],
 "maxValues": [
  1509.9984741210938
 ],
 "meanValues": [
  513.1890757251849
 ],
 "stdvValues": [
  299.52699301473353
 ],
 "objectIdField": "",
 "fields": [],
 "capabilities": "Image,Metadata,Mensuration",
 "defaultMosaicMethod": "Center",
 "allowedMosaicMethods": "",
 "sortField": "",
 "sortValue": null,
 "sortAscending": true,
 "mosaicOperator": "First",
 "maxDownloadSizeLimit": 2097196,
 "defaultCompressionQuality": 75,
 "defaultResamplingMethod": "Bilinear",
 "maxImageHeight": 4100,
 "maxImageWidth": 15000,
 "allowRasterFunction": true,
 "rasterFunctionInfos": [
  {
   "name": "None",
   "description": "",
   "help": ""
  }
 ],
 "rasterTypeInfos": [
  {
   "name": "Raster Dataset",
   "description": "Supports all ArcGIS Raster Datasets",
   "help": ""
  }
 ],
 "mensurationCapabilities": "Basic",
 "hasHistograms": true,
 "hasColormap": false,
 "hasRasterAttributeTable": false,
 "minScale": 0,
 "maxScale": 0,
 "exportTilesAllowed": false,
 "hasMultidimensions": false,
 "supportsStatistics": false,
 "supportsAdvancedQueries": false,
 "editFieldsInfo": null,
 "ownershipBasedAccessControlForRasters": null,
 "allowComputeTiePoints": false,
 "useStandardizedQueries": true,
 "advancedQueryCapabilities": {
  "useStandardizedQueries": true,
  "supportsStatistics": false,
  "supportsOrderBy": false,
  "supportsDistinct": false,
  "supportsPagination": false
 },
 "spatialReference": {
  "wkid": 102171,
  "latestWkid": 3111
 }
}
