{
 "currentVersion": 10.81,
 "serviceDescription": "DEM10",
 "name": "DEM10",
 "description": "",
 "extent": {
  "xmin": 2081000.0000000002,
  "ymin": 2258000.000000002,
  "xmax": 2952000,
  "ymax": 2843000.000000002,
  "spatialReference": {
   "wkt": "PROJCS[\"GDA_1994_Lambert_Conformal_Conic\",GEOGCS[\"GCS_GDA_1994\",DATUM[\"D_GDA_1994\",SPHEROID[\"GRS_1980\",6378137.0,298.257222101]],PRIMEM[\"Greenwich\",0.0],UNIT[\"Degree\",0.0174532925199433]],PROJECTION[\"Lambert_Conformal_Conic\"],PARAMETER[\"False_Easting\",2500000.0],PARAMETER[\"False_Northing\",2500000.0],PARAMETER[\"Central_Meridian\",145.0],PARAMETER[\"Standard_Parallel_1\",-36.0],PARAMETER[\"Standard_Parallel_2\",-38.0],PARAMETER[\"Latitude_Of_Origin\",-37.0],UNIT[\"Meter\",1.0]]"
  }
 },
 "initialExtent": {
  "xmin": 2081000.0000000002,
  "ymin": 2258000.000000002,
  "xmax": 2952000,
  "ymax": 2843000.000000002,
  "spatialReference": {
   "wkt": "PROJCS[\"GDA_1994_Lambert_Conformal_Conic\",GEOGCS[\"GCS_GDA_1994\",DATUM[\"D_GDA_1994\",SPHEROID[\"GRS_1980\",6378137.0,298.257222101]],PRIMEM[\"Greenwich\",0.0],UNIT[\"Degree\",0.0174532925199433]],PROJECTION[\"Lambert_Conformal_Conic\"],PARAMETER[\"False_Easting\",2500000.0],PARAMETER[\"False_Northing\",2500000.0],PARAMETER[\"Central_Meridian\",145.0],PARAMETER[\"Standard_Parallel_1\",-36.0],PARAMETER[\"Standard_Parallel_2\",-38.0],PARAMETER[\"Latitude_Of_Origin\",-37.0],UNIT[\"Meter\",1.0]]"
  }
 },
 "fullExtent": {
  "xmin": 2081000.0000000002,
  "ymin": 2258000.000000002,
  "xmax": 2952000,
  "ymax": 2843000.000000002,
  "spatialReference": {
   "wkt": "PROJCS[\"GDA_1994_Lambert_Conformal_Conic\",GEOGCS[\"GCS_GDA_1994\",DATUM[\"D_GDA_1994\",SPHEROID[\"GRS_1980\",6378137.0,298.257222101]],PRIMEM[\"Greenwich\",0.0],UNIT[\"Degree\",0.0174532925199433]],PROJECTION[\"Lambert_Conformal_Conic\"],PARAMETER[\"False_Easting\",2500000.0],PARAMETER[\"False_Northing\",2500000.0],PARAMETER[\"Central_Meridian\",145.0],PARAMETER[\"Standard_Parallel_1\",-36.0],PARAMETER[\"Standard_Parallel_2\",-38.0],PARAMETER[\"Latitude_Of_Origin\",-37.0],UNIT[\"Meter\",1.0]]"
  }
 },
 "pixelSizeX": 9.999999999999996,
 "pixelSizeY": 10,
 "bandCount": 1,
 "pixelType": "F32",
 "minPixelSize": 0,
 "maxPixelSize": 0,
 "copyrightText": "",
 "serviceDataType": "esriImageServiceDataTypeGeneric",
 "minValues": [
  -69.57703399658203
 ],
 "maxValues": [
  2045.767333984375
 ],
 "meanValues": [
  248.02818845413236
 ],
 "stdvValues": [
  273.6082092945391
 ],
 "objectIdField": "",
 "fields": [],
 "capabilities": "Mensuration,Image,Metadata",
 "defaultMosaicMethod": "Center",
 "allowedMosaicMethods": "",
 "sortField": "",
 "sortValue": null,
 "sortAscending": true,
 "mosaicOperator": "First",
 "maxDownloadSizeLimit": 2097196,
 "defaultCompressionQuality": 75,
 "defaultResamplingMethod": "Bilinear",
 "maxImageHeight": 4100,
 "maxImageWidth": 15000,
 "allowRasterFunction": true,
 "rasterFunctionInfos": [
  {
   "name": "None",
   "description": "",
   "help": ""
  }
 ],
 "rasterTypeInfos": [
  {
   "name": "Raster Dataset",
   "description": "Supports all ArcGIS Raster Datasets",
   "help": ""
  }
 ],
 "mensurationCapabilities": "Basic",
 "hasHistograms": true,
 "hasColormap": false,
 "hasRasterAttributeTable": false,
 "minScale": 0,
 "maxScale": 0,
 "exportTilesAllowed": false,
 "hasMultidimensions": false,
 "supportsStatistics": false,
 "supportsAdvancedQueries": false,
 "editFieldsInfo": null,
 "ownershipBasedAccessControlForRasters": null,
 "allowComputeTiePoints": false,
 "useStandardizedQueries": true,
 "advancedQueryCapabilities": {
  "useStandardizedQueries": true,
  "supportsStatistics": false,
  "supportsOrderBy": false,
  "supportsDistinct": false,
  "supportsPagination": false
 },
 "spatialReference": {
  "wkt": "PROJCS[\"GDA_1994_Lambert_Conformal_Conic\",GEOGCS[\"GCS_GDA_1994\",DATUM[\"D_GDA_1994\",SPHEROID[\"GRS_1980\",6378137.0,298.257222101]],PRIMEM[\"Greenwich\",0.0],UNIT[\"Degree\",0.0174532925199433]],PROJECTION[\"Lambert_Conformal_Conic\"],PARAMETER[\"False_Easting\",2500000.0],PARAMETER[\"False_Northing\",2500000.0],PARAMETER[\"Central_Meridian\",145.0],PARAMETER[\"Standard_Parallel_1\",-36.0],PARAMETER[\"Standard_Parallel_2\",-38.0],PARAMETER[\"Latitude_Of_Origin\",-37.0],UNIT[\"Meter\",1.0]]"
 }
}
