View In:
ArcGIS JavaScript
ArcGIS Online Map Viewer
ArcGIS Earth
ArcMap
View Footprint In:
ArcGIS Online Map Viewer
Service Description: DEM10
Name: DEM10
Description:
Single Fused Map Cache: false
Extent:
XMin: 2081000.0000000002
YMin: 2258000.000000002
XMax: 2952000
YMax: 2843000.000000002
Spatial Reference: PROJCS["GDA_1994_Lambert_Conformal_Conic",GEOGCS["GCS_GDA_1994",DATUM["D_GDA_1994",SPHEROID["GRS_1980",6378137.0,298.257222101]],PRIMEM["Greenwich",0.0],UNIT["Degree",0.0174532925199433]],PROJECTION["Lambert_Conformal_Conic"],PARAMETER["False_Easting",2500000.0],PARAMETER["False_Northing",2500000.0],PARAMETER["Central_Meridian",145.0],PARAMETER["Standard_Parallel_1",-36.0],PARAMETER["Standard_Parallel_2",-38.0],PARAMETER["Latitude_Of_Origin",-37.0],UNIT["Meter",1.0]]
Initial Extent:
XMin: 2081000.0000000002
YMin: 2258000.000000002
XMax: 2952000
YMax: 2843000.000000002
Spatial Reference: PROJCS["GDA_1994_Lambert_Conformal_Conic",GEOGCS["GCS_GDA_1994",DATUM["D_GDA_1994",SPHEROID["GRS_1980",6378137.0,298.257222101]],PRIMEM["Greenwich",0.0],UNIT["Degree",0.0174532925199433]],PROJECTION["Lambert_Conformal_Conic"],PARAMETER["False_Easting",2500000.0],PARAMETER["False_Northing",2500000.0],PARAMETER["Central_Meridian",145.0],PARAMETER["Standard_Parallel_1",-36.0],PARAMETER["Standard_Parallel_2",-38.0],PARAMETER["Latitude_Of_Origin",-37.0],UNIT["Meter",1.0]]
Full Extent:
XMin: 2081000.0000000002
YMin: 2258000.000000002
XMax: 2952000
YMax: 2843000.000000002
Spatial Reference: PROJCS["GDA_1994_Lambert_Conformal_Conic",GEOGCS["GCS_GDA_1994",DATUM["D_GDA_1994",SPHEROID["GRS_1980",6378137.0,298.257222101]],PRIMEM["Greenwich",0.0],UNIT["Degree",0.0174532925199433]],PROJECTION["Lambert_Conformal_Conic"],PARAMETER["False_Easting",2500000.0],PARAMETER["False_Northing",2500000.0],PARAMETER["Central_Meridian",145.0],PARAMETER["Standard_Parallel_1",-36.0],PARAMETER["Standard_Parallel_2",-38.0],PARAMETER["Latitude_Of_Origin",-37.0],UNIT["Meter",1.0]]
Pixel Size X: 9.999999999999996
Pixel Size Y: 10.0
Band Count: 1
Pixel Type: F32
RasterFunction Infos: {"rasterFunctionInfos": [{
"name": "None",
"description": "",
"help": ""
}]}
Mensuration Capabilities: Basic
Has Histograms: true
Has Colormap: false
Has Multi Dimensions : false
Rendering Rule:
Min Scale: 0
Max Scale: 0
Copyright Text:
Service Data Type: esriImageServiceDataTypeGeneric
Min Values: -69.57703399658203
Max Values: 2045.767333984375
Mean Values: 248.02818845413236
Standard Deviation Values: 273.6082092945391
Object ID Field:
Fields:
None
Default Mosaic Method: Center
Allowed Mosaic Methods:
SortField:
SortValue: null
Mosaic Operator: First
Default Compression Quality: 75
Default Resampling Method: Bilinear
Max Record Count: null
Max Image Height: 4100
Max Image Width: 15000
Max Download Image Count: null
Max Mosaic Image Count: null
Allow Raster Function: true
Allow Copy: null
Allow Analysis: null
Allow Compute TiePoints: false
Supports Statistics: false
Supports Advanced Queries: false
Use StandardizedQueries: true
Raster Type Infos:
Name: Raster Dataset
Description: Supports all ArcGIS Raster Datasets
Help:
Has Raster Attribute Table: false
Edit Fields Info: null
Ownership Based AccessControl For Rasters: null
Child Resources:
Info
Histograms
Key Properties
Legend
Raster Function Infos
Supported Operations:
Export Image
Identify
Measure
Compute Histograms
Compute Statistics Histograms
Get Samples
Compute Class Statistics
Query Boundary
Compute Pixel Location
Validate
Project